BEGIN:VCALENDAR
VERSION:2.0
PRODID:-//wp-events-plugin.com//6.4.6.4//EN
TZID:Europe/Paris
X-WR-TIMEZONE:Europe/Paris
BEGIN:VEVENT
UID:39@cineqf.fr
DTSTART;TZID=Europe/Paris:20241016T203000
DTEND;TZID=Europe/Paris:20241016T203000
DTSTAMP:20240809T135738Z
URL:https://cineqf.fr/events/im-your-man-vo/
SUMMARY:I'm your man (vo)
DESCRIPTION:1h45\nPar Maria Schrader\, Jan Schomburg\nAvec Maren Eggert\
 , Dan Stevens\, Sandra Hüller\nAlma\, brillante scientifique\, se rév
 èle être une parfaite candidate pour se prêter à une expérience : pen
 dant trois semaines\, elle doit vivre avec Tom\, un robot à l’apparence
  humaine parfaite\, spécialement programmé pour correspondre à sa défi
 nition de l’homme idéal. Son existence ne doit servir qu’un seul but 
 : rendre Alma heureuse.
ATTACH;FMTTYPE=image/jpeg:https://cineqf.fr/wp-content/uploads/2024/08/202
 41016-ImYourMan.jpg
CATEGORIES:Film
LOCATION:Complexe Pepi\, Complexe Patrick PEPI\, rue des Côteaux\, Quint-F
 onsegrives\, 31130\, France
X-APPLE-STRUCTURED-LOCATION;VALUE=URI;X-ADDRESS=Complexe Patrick PEPI\, rue
  des Côteaux\, Quint-Fonsegrives\, 31130\, France;X-APPLE-RADIUS=100;X-TI
 TLE=Complexe Pepi:geo:0,0
END:VEVENT
BEGIN:VTIMEZONE
TZID:Europe/Paris
X-LIC-LOCATION:Europe/Paris
BEGIN:DAYLIGHT
DTSTART:20240331T030000
TZOFFSETFROM:+0100
TZOFFSETTO:+0200
TZNAME:CEST
END:DAYLIGHT
END:VTIMEZONE
END:VCALENDAR