BEGIN:VCALENDAR
VERSION:2.0
PRODID:-//wp-events-plugin.com//6.4.6.4//EN
TZID:Europe/Paris
X-WR-TIMEZONE:Europe/Paris
BEGIN:VEVENT
UID:53@cineqf.fr
DTSTART;TZID=Europe/Paris:20241215T110000
DTEND;TZID=Europe/Paris:20241215T110000
DTSTAMP:20241010T153520Z
URL:https://cineqf.fr/events/flow-le-chat-qui-navait-plus-peur-de-leau/
SUMMARY:Flow\, le chat qui n’avait plus peur de l’eau
DESCRIPTION:1h25\n\nDe Gints Zilbalodis\n\nUn chat se réveille dans un un
 ivers envahi par l’eau où toute vie humaine semble avoir disparu. Il tr
 ouve refuge sur un bateau avec un groupe d’autres animaux. Mais s’ente
 ndre avec eux s’avère un défi encore plus grand que de surmonter sa pe
 ur de l'eau ! Tous devront désormais apprendre à surmonter leurs différ
 ences et à s’adapter au nouveau monde qui s’impose à eux.
ATTACH;FMTTYPE=image/jpeg:https://cineqf.fr/wp-content/uploads/2024/10/202
 41215-Flow.jpg
CATEGORIES:Film
LOCATION:Complexe Pepi\, Complexe Patrick PEPI\, rue des Côteaux\, Quint-F
 onsegrives\, 31130\, France
X-APPLE-STRUCTURED-LOCATION;VALUE=URI;X-ADDRESS=Complexe Patrick PEPI\, rue
  des Côteaux\, Quint-Fonsegrives\, 31130\, France;X-APPLE-RADIUS=100;X-TI
 TLE=Complexe Pepi:geo:0,0
END:VEVENT
BEGIN:VTIMEZONE
TZID:Europe/Paris
X-LIC-LOCATION:Europe/Paris
BEGIN:STANDARD
DTSTART:20241027T020000
TZOFFSETFROM:+0200
TZOFFSETTO:+0100
TZNAME:CET
END:STANDARD
END:VTIMEZONE
END:VCALENDAR