BEGIN:VCALENDAR
VERSION:2.0
PRODID:-//wp-events-plugin.com//6.4.6.4//EN
TZID:Europe/Paris
X-WR-TIMEZONE:Europe/Paris
BEGIN:VEVENT
UID:64@cineqf.fr
DTSTART;TZID=Europe/Paris:20250207T203000
DTEND;TZID=Europe/Paris:20250207T203000
DTSTAMP:20250203T121453Z
URL:https://cineqf.fr/events/en-fanfare-ad/
SUMMARY:En Fanfare (AD)
DESCRIPTION:1h44\nPar Emmanuel Courcol\, Irène Muscari\nAvec Benjamin L
 avernhe\, Pierre Lottin\, Sarah Suco\nThibaut est un chef d’orchestre 
 de renommée internationale qui parcourt le monde. Lorsqu’il apprend qu
 ’il a été adopté\, il découvre l’existence d’un frère\, Ji
 mmy\, employé de cantine scolaire et qui joue du trombone dans une fanfa
 re du nord de la France. En apparence tout les sépare\, sauf l’amour d
 e la musique. Détectant les capacités musicales exceptionnelles de son
  frère\, Thibaut se donne pour mission de réparer l’injustice du des
 tin. Jimmy se prend alors à rêver d’une autre vie…
ATTACH;FMTTYPE=image/jpeg:https://cineqf.fr/wp-content/uploads/2024/12/202
 50207-EnFanfare.jpg
CATEGORIES:Film
LOCATION:Complexe Pepi\, Complexe Patrick PEPI\, rue des Côteaux\, Quint-F
 onsegrives\, 31130\, France
X-APPLE-STRUCTURED-LOCATION;VALUE=URI;X-ADDRESS=Complexe Patrick PEPI\, rue
  des Côteaux\, Quint-Fonsegrives\, 31130\, France;X-APPLE-RADIUS=100;X-TI
 TLE=Complexe Pepi:geo:0,0
END:VEVENT
BEGIN:VTIMEZONE
TZID:Europe/Paris
X-LIC-LOCATION:Europe/Paris
BEGIN:STANDARD
DTSTART:20241027T020000
TZOFFSETFROM:+0200
TZOFFSETTO:+0100
TZNAME:CET
END:STANDARD
END:VTIMEZONE
END:VCALENDAR