BEGIN:VCALENDAR
VERSION:2.0
PRODID:-//wp-events-plugin.com//6.4.6.4//EN
TZID:Europe/Paris
X-WR-TIMEZONE:Europe/Paris
BEGIN:VEVENT
UID:34@cineqf.fr
DTSTART;TZID=Europe/Paris:20241004T203000
DTEND;TZID=Europe/Paris:20241004T203000
DTSTAMP:20240809T134937Z
URL:https://cineqf.fr/events/emilia-perez/
SUMMARY:Emilia Perez
DESCRIPTION:2h10\nDe Jacques Audiard\nAvec Zoe Saldana\, Karla Sofía Ga
 scón\, Selena Gomez\nSurqualifiée et surexploitée\, Rita use de ses ta
 lents d’avocate au service d’un gros cabinet plus enclin à blanchir d
 es criminels qu’à servir la justice. Mais une porte de sortie inespér
 ée s’ouvre à elle\, aider le chef de cartel Manitas à se retirer des 
 affaires et réaliser le plan qu’il peaufine en secret depuis des année
 s : devenir enfin la femme qu’il a toujours rêvé d’être.
ATTACH;FMTTYPE=image/jpeg:https://cineqf.fr/wp-content/uploads/2024/08/202
 41004-emiliaperez.jpg
CATEGORIES:Film
LOCATION:Complexe Pepi\, Complexe Patrick PEPI\, rue des Côteaux\, Quint-F
 onsegrives\, 31130\, France
X-APPLE-STRUCTURED-LOCATION;VALUE=URI;X-ADDRESS=Complexe Patrick PEPI\, rue
  des Côteaux\, Quint-Fonsegrives\, 31130\, France;X-APPLE-RADIUS=100;X-TI
 TLE=Complexe Pepi:geo:0,0
END:VEVENT
BEGIN:VTIMEZONE
TZID:Europe/Paris
X-LIC-LOCATION:Europe/Paris
BEGIN:DAYLIGHT
DTSTART:20240331T030000
TZOFFSETFROM:+0100
TZOFFSETTO:+0200
TZNAME:CEST
END:DAYLIGHT
END:VTIMEZONE
END:VCALENDAR